BEGIN:VCALENDAR
VERSION:2.0
PRODID:-//AAFCPL - ECPv6.15.11//NONSGML v1.0//EN
CALSCALE:GREGORIAN
METHOD:PUBLISH
X-WR-CALNAME:AAFCPL
X-ORIGINAL-URL:https://www.aadityafinechem.com
X-WR-CALDESC:Events for AAFCPL
REFRESH-INTERVAL;VALUE=DURATION:PT1H
X-Robots-Tag:noindex
X-PUBLISHED-TTL:PT1H
BEGIN:VTIMEZONE
TZID:Asia/Kolkata
BEGIN:STANDARD
TZOFFSETFROM:+0530
TZOFFSETTO:+0530
TZNAME:IST
DTSTART:20240101T000000
END:STANDARD
END:VTIMEZONE
BEGIN:VEVENT
DTSTART;VALUE=DATE:20251008
DTEND;VALUE=DATE:20251009
DTSTAMP:20260424T080455
CREATED:20251112T071624Z
LAST-MODIFIED:20251112T072807Z
UID:4765-1759881600-1759967999@www.aadityafinechem.com
SUMMARY:Proud to be part of Jinke’s incredible journey!
DESCRIPTION:Thank you\, Jinke\, for trusting us and making Aaditya Finechem Pvt. Ltd. an integral part of your journey\, from the groundbreaking in 2024 to the grand opening of your SPC Intelligent & Automated Plant in Tianjin\, China\, in 2025.\nHere’s to continued collaboration\, innovation\, and success ahead! \n        \n        \n                            \n                    \n                \n                    \n\n        \n        \n            \n                ×
URL:https://www.aadityafinechem.com/event/proud-to-be-part-of-jinkes-incredible-journey/
CATEGORIES:Event
END:VEVENT
BEGIN:VEVENT
DTSTART;VALUE=DATE:20250908
DTEND;VALUE=DATE:20250911
DTSTAMP:20260424T080455
CREATED:20250911T134335Z
LAST-MODIFIED:20250912T090157Z
UID:4693-1757289600-1757548799@www.aadityafinechem.com
SUMMARY:MSSDETCOM At Goa
DESCRIPTION:Our team participated in exhibition organised by #MSSDETCOM at Goa from 8-10th September 2025. \nHad a great time meeting customers from- Maharashtra\, Gujarat\, Tamil Naidu to name few! \nThank you to our mentors Anthem Biosciences Limited \, Meghmani Industries Limited \, Khurana Oleo for constant support! \nLooking forward to meeting at the next expo! \n        \n        \n                            \n                    \n                \n                    \n\n        \n        \n            \n                ×
URL:https://www.aadityafinechem.com/event/mssdetcom-at-goa/
CATEGORIES:Event
END:VEVENT
BEGIN:VEVENT
DTSTART;VALUE=DATE:20250801
DTEND;VALUE=DATE:20250803
DTSTAMP:20260424T080455
CREATED:20250905T123836Z
LAST-MODIFIED:20250912T062801Z
UID:4656-1754006400-1754179199@www.aadityafinechem.com
SUMMARY:Chennai Exhibition
DESCRIPTION:Wrapped up two days of discussions\, meetings & collaboration with our esteemed customers Homecare Ingredients Expo in Chennai on 1st & 2nd August 2025. \nOur team along with Anthem Biosciences Limited Meghmani Industries Limited & Rujul \nChemicals are grateful for the visitors & customers who took their time out to meet. \nLooking forward to connecting again! \n        \n        \n                            \n                    \n                \n                    \n\n        \n        \n            \n                ×
URL:https://www.aadityafinechem.com/event/chennai-exhibition/
CATEGORIES:Event
END:VEVENT
BEGIN:VEVENT
DTSTART;VALUE=DATE:20250719
DTEND;VALUE=DATE:20250720
DTSTAMP:20260424T080455
CREATED:20250905T122205Z
LAST-MODIFIED:20250912T063817Z
UID:4648-1752883200-1752969599@www.aadityafinechem.com
SUMMARY:GEMA
DESCRIPTION:Aaditya Finechem team was proud to a part of the Grain Ethanol Manufacturers \nAssociation Event 2025! \nWe wish GEMA & its 130 members continued success! \nGlad to have participated along with our mentors \nLallemand Biofuels & Distilled Spirits! \n        \n        \n                            \n                    \n                \n                    \n\n        \n        \n            \n                ×
URL:https://www.aadityafinechem.com/event/gema/
CATEGORIES:Event
END:VEVENT
BEGIN:VEVENT
DTSTART;VALUE=DATE:20250130
DTEND;VALUE=DATE:20250201
DTSTAMP:20260424T080455
CREATED:20250905T124929Z
LAST-MODIFIED:20250912T064714Z
UID:4668-1738195200-1738367999@www.aadityafinechem.com
SUMMARY:SEIC by Chini Mandi
DESCRIPTION:AAFCPL partnered with Chini Mandi for the Sugar Ethanol & Bioenergy India Confrence 2025 as their Chemical Partner. \nThe event kickstarted with industry updates & guidance by Hon’ble Nitin Gadkari himself. Through the course of these two days our team along with Lallemand’s team interacted with industry leaders such as Mr. B.B Thombre\, Mr. Vishal Nirani to name a few. \nAAFCPL Team & from LBDS team Mr. Chris Richards & Mr. Robert Piggot were equally excited to be a part of the expo & share their industry experience with visitors. \n        \n        \n                            \n                    \n                \n                    \n\n        \n        \n            \n                ×
URL:https://www.aadityafinechem.com/event/seic-by-chini-mandi/
CATEGORIES:Event
END:VEVENT
END:VCALENDAR